Package: isobar Version: 1.54.0 Command: /home/biocbuild/R/R/bin/R CMD check --install=check:isobar.install-out.txt --library=/home/biocbuild/R/R/site-library --no-vignettes --timings isobar_1.54.0.tar.gz StartedAt: 2025-10-14 10:29:20 -0000 (Tue, 14 Oct 2025) EndedAt: 2025-10-14 10:33:51 -0000 (Tue, 14 Oct 2025) EllapsedTime: 271.2 seconds RetCode: 0 Status: WARNINGS CheckDir: isobar.Rcheck Warnings: 2