Package: islify Version: 1.1.0 Command: F:\biocbuild\bbs-3.22-bioc\R\bin\R.exe CMD check --no-multiarch --install=check:islify.install-out.txt --library=F:\biocbuild\bbs-3.22-bioc\R\library --no-vignettes --timings islify_1.1.0.tar.gz StartedAt: 2025-08-15 04:27:51 -0400 (Fri, 15 Aug 2025) EndedAt: 2025-08-15 04:29:34 -0400 (Fri, 15 Aug 2025) EllapsedTime: 102.8 seconds RetCode: 0 Status: OK CheckDir: islify.Rcheck Warnings: 0