Package: islify Version: 1.2.0 Command: /home/biocbuild/bbs-3.22-bioc/R/bin/R CMD INSTALL islify StartedAt: 2025-10-31 15:21:46 -0400 (Fri, 31 Oct 2025) EndedAt: 2025-10-31 15:21:57 -0400 (Fri, 31 Oct 2025) EllapsedTime: 11.0 seconds RetCode: 0 Status: OK