Package: islify Version: 1.2.0 Command: /Library/Frameworks/R.framework/Resources/bin/R CMD check --install=check:islify.install-out.txt --library=/Library/Frameworks/R.framework/Resources/library --no-vignettes --timings islify_1.2.0.tar.gz StartedAt: 2025-11-06 20:23:43 -0500 (Thu, 06 Nov 2025) EndedAt: 2025-11-06 20:24:17 -0500 (Thu, 06 Nov 2025) EllapsedTime: 34.5 seconds RetCode: 0 Status: OK CheckDir: islify.Rcheck Warnings: 0