Package: islify Version: 1.2.0 Command: rm -rf islify.buildbin-libdir && mkdir islify.buildbin-libdir && /Users/biocbuild/BBS/utils/build-universal.sh islify_1.2.0.tar.gz /Library/Frameworks/R.framework/Resources/bin/R islify.buildbin-libdir StartedAt: 2025-11-06 23:09:24 -0500 (Thu, 06 Nov 2025) EndedAt: 2025-11-06 23:09:30 -0500 (Thu, 06 Nov 2025) EllapsedTime: 6.1 seconds RetCode: 0 Status: OK PackageFile: islify_1.2.0.tgz PackageFileSize: 2.084 MiB