Package: interactiveDisplayBase Version: 1.48.0 Command: /home/biocbuild/bbs-3.22-bioc/R/bin/R CMD INSTALL interactiveDisplayBase StartedAt: 2025-11-09 15:14:37 -0500 (Sun, 09 Nov 2025) EndedAt: 2025-11-09 15:14:40 -0500 (Sun, 09 Nov 2025) EllapsedTime: 3.1 seconds RetCode: 0 Status: OK