Package: interactiveDisplayBase Version: 1.48.0 Command: /home/biocbuild/bbs-3.22-bioc/R/bin/R CMD build --keep-empty-dirs --no-resave-data --md5 interactiveDisplayBase StartedAt: 2025-11-09 18:20:14 -0500 (Sun, 09 Nov 2025) EndedAt: 2025-11-09 18:20:19 -0500 (Sun, 09 Nov 2025) EllapsedTime: 5.0 seconds RetCode: 0 Status: OK PackageFile: interactiveDisplayBase_1.48.0.tar.gz PackageFileSize: 8.633 KiB