Package: interactiveDisplayBase Version: 1.48.0 Command: /Library/Frameworks/R.framework/Resources/bin/R CMD INSTALL interactiveDisplayBase StartedAt: 2025-11-03 15:18:43 -0500 (Mon, 03 Nov 2025) EndedAt: 2025-11-03 15:18:51 -0500 (Mon, 03 Nov 2025) EllapsedTime: 8.2 seconds RetCode: 0 Status: OK