Package: interactiveDisplayBase Version: 1.48.0 Command: /Library/Frameworks/R.framework/Resources/bin/R CMD INSTALL interactiveDisplayBase StartedAt: 2025-11-09 15:10:27 -0500 (Sun, 09 Nov 2025) EndedAt: 2025-11-09 15:10:29 -0500 (Sun, 09 Nov 2025) EllapsedTime: 1.7 seconds RetCode: 0 Status: OK