Package: interactiveDisplayBase Version: 1.48.0 Command: rm -rf interactiveDisplayBase.buildbin-libdir && mkdir interactiveDisplayBase.buildbin-libdir && /Users/biocbuild/BBS/utils/build-universal.sh interactiveDisplayBase_1.48.0.tar.gz /Library/Frameworks/R.framework/Resources/bin/R interactiveDisplayBase.buildbin-libdir StartedAt: 2025-11-09 23:11:56 -0500 (Sun, 09 Nov 2025) EndedAt: 2025-11-09 23:11:58 -0500 (Sun, 09 Nov 2025) EllapsedTime: 2.0 seconds RetCode: 0 Status: OK PackageFile: interactiveDisplayBase_1.48.0.tgz PackageFileSize: 29.2 KiB