Package: interactiveDisplay Version: 1.47.1 Command: /home/biocbuild/R/R/bin/R CMD check --install=check:interactiveDisplay.install-out.txt --library=/home/biocbuild/R/R/site-library --no-vignettes --timings interactiveDisplay_1.47.1.tar.gz StartedAt: 2025-10-17 10:16:47 -0000 (Fri, 17 Oct 2025) EndedAt: 2025-10-17 10:20:23 -0000 (Fri, 17 Oct 2025) EllapsedTime: 216.1 seconds RetCode: 0 Status: OK CheckDir: interactiveDisplay.Rcheck Warnings: 0