Package: interacCircos Version: 1.20.0 Command: /home/biocbuild/bbs-3.22-bioc/R/bin/R CMD INSTALL interacCircos StartedAt: 2025-11-05 15:14:48 -0500 (Wed, 05 Nov 2025) EndedAt: 2025-11-05 15:15:26 -0500 (Wed, 05 Nov 2025) EllapsedTime: 37.9 seconds RetCode: 0 Status: OK