Package: interacCircos Version: 1.20.0 Command: /home/biocbuild/bbs-3.22-bioc/R/bin/R CMD check --install=check:interacCircos.install-out.txt --library=/home/biocbuild/bbs-3.22-bioc/R/site-library --timings interacCircos_1.20.0.tar.gz StartedAt: 2025-11-06 00:47:30 -0500 (Thu, 06 Nov 2025) EndedAt: 2025-11-06 00:48:02 -0500 (Thu, 06 Nov 2025) EllapsedTime: 32.0 seconds RetCode: 0 Status: OK CheckDir: interacCircos.Rcheck Warnings: 0