Package: intansv Version: 1.50.0 Command: /home/biocbuild/R/R/bin/R CMD check --install=check:intansv.install-out.txt --library=/home/biocbuild/R/R/site-library --no-vignettes --timings intansv_1.50.0.tar.gz StartedAt: 2025-11-14 10:42:28 -0000 (Fri, 14 Nov 2025) EndedAt: 2025-11-14 10:50:20 -0000 (Fri, 14 Nov 2025) EllapsedTime: 471.5 seconds RetCode: 0 Status: OK CheckDir: intansv.Rcheck Warnings: 0