Package: intansv Version: 1.50.0 Command: /home/biocbuild/bbs-3.22-bioc/R/bin/R CMD check --install=check:intansv.install-out.txt --library=/home/biocbuild/bbs-3.22-bioc/R/site-library --timings intansv_1.50.0.tar.gz StartedAt: 2025-11-07 00:38:07 -0500 (Fri, 07 Nov 2025) EndedAt: 2025-11-07 00:45:25 -0500 (Fri, 07 Nov 2025) EllapsedTime: 437.5 seconds RetCode: 0 Status: OK CheckDir: intansv.Rcheck Warnings: 0