Package: infinityFlow Version: 1.18.0 Command: /home/biocbuild/bbs-3.21-bioc/R/bin/R CMD check --install=check:infinityFlow.install-out.txt --library=/home/biocbuild/bbs-3.21-bioc/R/site-library --timings infinityFlow_1.18.0.tar.gz StartedAt: 2025-10-16 00:15:48 -0400 (Thu, 16 Oct 2025) EndedAt: 2025-10-16 00:21:52 -0400 (Thu, 16 Oct 2025) EllapsedTime: 364.6 seconds RetCode: 0 Status: OK CheckDir: infinityFlow.Rcheck Warnings: 0