Package: infercnv Version: 1.24.0 Command: /home/biocbuild/R/R/bin/R CMD INSTALL infercnv StartedAt: 2025-10-13 20:33:42 -0000 (Mon, 13 Oct 2025) EndedAt: 2025-10-13 20:33:43 -0000 (Mon, 13 Oct 2025) EllapsedTime: 1.0 seconds RetCode: 1 Status: ERROR