Package: infercnv Version: 1.24.0 Command: rm -rf infercnv.buildbin-libdir && mkdir infercnv.buildbin-libdir && /Users/biocbuild/BBS/utils/build-universal.sh infercnv_1.24.0.tar.gz /Library/Frameworks/R.framework/Resources/bin/R infercnv.buildbin-libdir StartedAt: 2025-10-15 18:56:04 -0400 (Wed, 15 Oct 2025) EndedAt: 2025-10-15 18:57:04 -0400 (Wed, 15 Oct 2025) EllapsedTime: 59.9 seconds RetCode: 0 Status: OK PackageFile: infercnv_1.24.0.tgz PackageFileSize: 4.347 MiB