Package: immunotation Version: 1.18.0 Command: /home/biocbuild/bbs-3.22-bioc/R/bin/R CMD build --keep-empty-dirs --no-resave-data --md5 immunotation StartedAt: 2025-11-13 18:17:41 -0500 (Thu, 13 Nov 2025) EndedAt: 2025-11-13 18:20:48 -0500 (Thu, 13 Nov 2025) EllapsedTime: 187.2 seconds RetCode: 0 Status: OK PackageFile: immunotation_1.18.0.tar.gz PackageFileSize: 2.073 MiB