Package: immunoClust Version: 1.42.0 Command: /Library/Frameworks/R.framework/Resources/bin/R CMD INSTALL immunoClust StartedAt: 2025-10-31 15:24:45 -0400 (Fri, 31 Oct 2025) EndedAt: 2025-10-31 15:25:19 -0400 (Fri, 31 Oct 2025) EllapsedTime: 33.8 seconds RetCode: 0 Status: OK