Package: immunoClust Version: 1.42.0 Command: rm -rf immunoClust.buildbin-libdir && mkdir immunoClust.buildbin-libdir && /Users/biocbuild/BBS/utils/build-universal.sh immunoClust_1.42.0.tar.gz /Library/Frameworks/R.framework/Resources/bin/R immunoClust.buildbin-libdir StartedAt: 2025-11-01 01:39:27 -0400 (Sat, 01 Nov 2025) EndedAt: 2025-11-01 01:40:11 -0400 (Sat, 01 Nov 2025) EllapsedTime: 43.7 seconds RetCode: 0 Status: OK PackageFile: immunoClust_1.42.0.tgz PackageFileSize: 3.413 MiB