Package: immApex Version: 1.2.0 Command: /Library/Frameworks/R.framework/Resources/bin/R CMD INSTALL immApex StartedAt: 2025-04-21 15:21:22 -0400 (Mon, 21 Apr 2025) EndedAt: 2025-04-21 15:21:45 -0400 (Mon, 21 Apr 2025) EllapsedTime: 23.0 seconds RetCode: 1 Status: ERROR