############################################################################## ############################################################################## ### ### Running command: ### ### /Library/Frameworks/R.framework/Resources/bin/R CMD INSTALL immApex ### ############################################################################## ############################################################################## * installing to library ‘/Library/Frameworks/R.framework/Versions/4.5-x86_64/Resources/library’ * installing *source* package ‘immApex’ ... ** this is package ‘immApex’ version ‘1.2.0’ ** using staged installation ** libs using C++ compiler: ‘Apple clang version 14.0.0 (clang-1400.0.29.202)’ using SDK: ‘MacOSX11.3.sdk’ make: Nothing to be done for `all'. installing to /Library/Frameworks/R.framework/Versions/4.5-x86_64/Resources/library/00LOCK-immApex/00new/immApex/libs ** R ** data ** inst ** byte-compile and prepare package for lazy loading ** help *** installing help indices ** building package indices ** installing vignettes ** testing if installed package can be loaded from temporary location Error: package or namespace load failed for ‘immApex’ in dyn.load(file, DLLpath = DLLpath, ...): unable to load shared object '/Library/Frameworks/R.framework/Versions/4.5-x86_64/Resources/library/00LOCK-immApex/00new/immApex/libs/immApex.so': dlopen(/Library/Frameworks/R.framework/Versions/4.5-x86_64/Resources/library/00LOCK-immApex/00new/immApex/libs/immApex.so, 0x0006): tried: '/Library/Frameworks/R.framework/Versions/4.5-x86_64/Resources/library/00LOCK-immApex/00new/immApex/libs/immApex.so' (mach-o file, but is an incompatible architecture (have (arm64), need (x86_64h))) Error: loading failed Execution halted ERROR: loading failed * removing ‘/Library/Frameworks/R.framework/Versions/4.5-x86_64/Resources/library/immApex’