Package: imcRtools Version: 1.14.0 Command: E:\biocbuild\bbs-3.21-bioc\R\bin\R.exe CMD check --no-multiarch --install=check:imcRtools.install-out.txt --library=E:\biocbuild\bbs-3.21-bioc\R\library --no-vignettes --timings imcRtools_1.14.0.tar.gz StartedAt: 2025-08-15 03:16:24 -0400 (Fri, 15 Aug 2025) EndedAt: 2025-08-15 03:43:31 -0400 (Fri, 15 Aug 2025) EllapsedTime: 1626.7 seconds RetCode: 0 Status: OK CheckDir: imcRtools.Rcheck Warnings: 0