Package: imcRtools Version: 1.14.0 Command: chmod a+r imcRtools -R && E:\biocbuild\bbs-3.21-bioc\R\bin\R.exe CMD build --keep-empty-dirs --no-resave-data imcRtools StartedAt: 2025-08-14 19:50:06 -0400 (Thu, 14 Aug 2025) EndedAt: 2025-08-14 19:55:05 -0400 (Thu, 14 Aug 2025) EllapsedTime: 299.0 seconds RetCode: 0 Status: OK PackageFile: imcRtools_1.14.0.tar.gz PackageFileSize: 2.205 MiB