Package: imcRtools Version: 1.14.0 Command: /Library/Frameworks/R.framework/Resources/bin/R CMD check --install=check:imcRtools.install-out.txt --library=/Library/Frameworks/R.framework/Resources/library --no-vignettes --timings imcRtools_1.14.0.tar.gz StartedAt: 2025-10-14 05:19:36 -0400 (Tue, 14 Oct 2025) EndedAt: 2025-10-14 05:55:06 -0400 (Tue, 14 Oct 2025) EllapsedTime: 2130.3 seconds RetCode: 1 Status: ERROR CheckDir: imcRtools.Rcheck Warnings: NA