Package: imcRtools Version: 1.14.0 Command: rm -rf imcRtools.buildbin-libdir && mkdir imcRtools.buildbin-libdir && /Users/biocbuild/BBS/utils/build-universal.sh imcRtools_1.14.0.tar.gz /Library/Frameworks/R.framework/Resources/bin/R imcRtools.buildbin-libdir StartedAt: 2025-10-14 13:46:04 -0400 (Tue, 14 Oct 2025) EndedAt: 2025-10-14 13:49:36 -0400 (Tue, 14 Oct 2025) EllapsedTime: 211.9 seconds RetCode: 0 Status: OK PackageFile: imcRtools_1.14.0.tgz PackageFileSize: 6.702 MiB