Package: igvShiny Version: 1.4.0 Command: /home/biocbuild/bbs-3.21-bioc/R/bin/R CMD build --keep-empty-dirs --no-resave-data igvShiny StartedAt: 2025-10-15 18:03:36 -0400 (Wed, 15 Oct 2025) EndedAt: 2025-10-15 18:03:57 -0400 (Wed, 15 Oct 2025) EllapsedTime: 21.0 seconds RetCode: 0 Status: OK PackageFile: igvShiny_1.4.0.tar.gz PackageFileSize: 4.22 MiB