Package: igvShiny Version: 1.4.0 Command: /home/biocbuild/R/R/bin/R CMD check --install=check:igvShiny.install-out.txt --library=/home/biocbuild/R/R/site-library --no-vignettes --timings igvShiny_1.4.0.tar.gz StartedAt: 2025-10-14 10:18:06 -0000 (Tue, 14 Oct 2025) EndedAt: 2025-10-14 10:20:35 -0000 (Tue, 14 Oct 2025) EllapsedTime: 149.1 seconds RetCode: 0 Status: OK CheckDir: igvShiny.Rcheck Warnings: 0