Package: igvR Version: 1.30.0 Command: /Library/Frameworks/R.framework/Resources/bin/R CMD check --install=check:igvR.install-out.txt --library=/Library/Frameworks/R.framework/Resources/library --no-vignettes --timings igvR_1.30.0.tar.gz StartedAt: 2025-11-04 20:17:51 -0500 (Tue, 04 Nov 2025) EndedAt: 2025-11-04 20:19:40 -0500 (Tue, 04 Nov 2025) EllapsedTime: 109.3 seconds RetCode: 0 Status: OK CheckDir: igvR.Rcheck Warnings: 0