Package: igblastr Version: 0.99.12 Command: chmod a+r igblastr -R && F:\biocbuild\bbs-3.22-bioc\R\bin\R.exe CMD build --keep-empty-dirs --no-resave-data igblastr StartedAt: 2025-08-14 20:53:18 -0400 (Thu, 14 Aug 2025) EndedAt: 2025-08-14 20:59:21 -0400 (Thu, 14 Aug 2025) EllapsedTime: 362.6 seconds RetCode: 0 Status: OK PackageFile: igblastr_0.99.12.tar.gz PackageFileSize: 2.873 MiB