Package: igblastr Version: 1.0.0 Maintainer: Hervé Pagès MaintainerEmail: hpages.on.github at gmail.com git_url: https://git.bioconductor.org/packages/igblastr git_branch: RELEASE_3_22 git_last_commit: 1435b82 git_last_commit_date: 2025-10-29 11:36:46 -0500 (Wed, 29 Oct 2025)