Package: idpr Version: 1.20.0 Command: /home/biocbuild/R/R/bin/R CMD build --keep-empty-dirs --no-resave-data idpr StartedAt: 2025-11-14 02:35:57 -0000 (Fri, 14 Nov 2025) EndedAt: 2025-11-14 02:37:35 -0000 (Fri, 14 Nov 2025) EllapsedTime: 97.0 seconds RetCode: 0 Status: OK PackageFile: idpr_1.20.0.tar.gz PackageFileSize: 1.636 MiB