Package: idpr Version: 1.18.0 Command: E:\biocbuild\bbs-3.21-bioc\R\bin\R.exe CMD check --no-multiarch --install=check:idpr.install-out.txt --library=E:\biocbuild\bbs-3.21-bioc\R\library --no-vignettes --timings idpr_1.18.0.tar.gz StartedAt: 2025-08-15 03:14:20 -0400 (Fri, 15 Aug 2025) EndedAt: 2025-08-15 03:15:30 -0400 (Fri, 15 Aug 2025) EllapsedTime: 69.4 seconds RetCode: 0 Status: OK CheckDir: idpr.Rcheck Warnings: 0