Package: idpr Version: 1.18.0 Command: rm -rf idpr.buildbin-libdir && mkdir idpr.buildbin-libdir && E:\biocbuild\bbs-3.21-bioc\R\bin\R.exe CMD INSTALL --build --library=idpr.buildbin-libdir idpr_1.18.0.tar.gz StartedAt: 2025-08-15 09:30:46 -0400 (Fri, 15 Aug 2025) EndedAt: 2025-08-15 09:31:16 -0400 (Fri, 15 Aug 2025) EllapsedTime: 29.1 seconds RetCode: 0 Status: OK PackageFile: idpr_1.18.0.zip PackageFileSize: 1.12 MiB