Package: idpr Version: 1.20.0 Command: /home/biocbuild/bbs-3.22-bioc/R/bin/R CMD INSTALL idpr StartedAt: 2025-11-09 15:31:39 -0500 (Sun, 09 Nov 2025) EndedAt: 2025-11-09 15:31:45 -0500 (Sun, 09 Nov 2025) EllapsedTime: 6.0 seconds RetCode: 0 Status: OK