Package: idpr Version: 1.20.0 Command: /home/biocbuild/bbs-3.22-bioc/R/bin/R CMD check --install=check:idpr.install-out.txt --library=/home/biocbuild/bbs-3.22-bioc/R/site-library --timings idpr_1.20.0.tar.gz StartedAt: 2025-11-10 00:46:44 -0500 (Mon, 10 Nov 2025) EndedAt: 2025-11-10 00:48:48 -0500 (Mon, 10 Nov 2025) EllapsedTime: 124.1 seconds RetCode: 0 Status: OK CheckDir: idpr.Rcheck Warnings: 0