Package: idpr Version: 1.20.0 Command: /home/biocbuild/bbs-3.22-bioc/R/bin/R CMD build --keep-empty-dirs --no-resave-data --md5 idpr StartedAt: 2025-11-09 18:15:29 -0500 (Sun, 09 Nov 2025) EndedAt: 2025-11-09 18:16:33 -0500 (Sun, 09 Nov 2025) EllapsedTime: 64.0 seconds RetCode: 0 Status: OK PackageFile: idpr_1.20.0.tar.gz PackageFileSize: 3.279 MiB