Package: icetea Version: 1.26.0 Command: set _R_CHECK_FORCE_SUGGESTS_=0&& E:\biocbuild\bbs-3.21-bioc\R\bin\R.exe CMD check --no-multiarch --install=check:icetea.install-out.txt --library=E:\biocbuild\bbs-3.21-bioc\R\library --no-vignettes --timings icetea_1.26.0.tar.gz StartedAt: 2025-08-15 03:13:28 -0400 (Fri, 15 Aug 2025) EndedAt: 2025-08-15 03:22:26 -0400 (Fri, 15 Aug 2025) EllapsedTime: 538.2 seconds RetCode: 0 Status: WARNINGS CheckDir: icetea.Rcheck Warnings: 1