Package: icetea Version: 1.26.0 Command: /home/biocbuild/bbs-3.21-bioc/R/bin/R CMD check --install=check:icetea.install-out.txt --library=/home/biocbuild/bbs-3.21-bioc/R/site-library --timings icetea_1.26.0.tar.gz StartedAt: 2025-10-16 00:11:47 -0400 (Thu, 16 Oct 2025) EndedAt: 2025-10-16 00:19:40 -0400 (Thu, 16 Oct 2025) EllapsedTime: 472.7 seconds RetCode: 0 Status: WARNINGS CheckDir: icetea.Rcheck Warnings: 1