Package: icetea Version: 1.26.0 Command: /Library/Frameworks/R.framework/Resources/bin/R CMD check --install=check:icetea.install-out.txt --library=/Library/Frameworks/R.framework/Resources/library --no-vignettes --timings icetea_1.26.0.tar.gz StartedAt: 2025-10-15 00:41:54 -0400 (Wed, 15 Oct 2025) EndedAt: 2025-10-15 00:49:35 -0400 (Wed, 15 Oct 2025) EllapsedTime: 460.8 seconds RetCode: 0 Status: WARNINGS CheckDir: icetea.Rcheck Warnings: 1