Package: icetea Version: 1.26.0 Command: rm -rf icetea.buildbin-libdir && mkdir icetea.buildbin-libdir && /Users/biocbuild/BBS/utils/build-universal.sh icetea_1.26.0.tar.gz /Library/Frameworks/R.framework/Resources/bin/R icetea.buildbin-libdir StartedAt: 2025-10-15 18:53:38 -0400 (Wed, 15 Oct 2025) EndedAt: 2025-10-15 18:54:43 -0400 (Wed, 15 Oct 2025) EllapsedTime: 64.8 seconds RetCode: 0 Status: OK PackageFile: icetea_1.26.0.tgz PackageFileSize: 1.112 MiB