Package: ibh Version: 1.56.0 Command: /home/biocbuild/R/R/bin/R CMD INSTALL ibh StartedAt: 2025-10-13 20:12:29 -0000 (Mon, 13 Oct 2025) EndedAt: 2025-10-13 20:12:42 -0000 (Mon, 13 Oct 2025) EllapsedTime: 12.5 seconds RetCode: 0 Status: OK