Package: iasva Version: 1.28.0 Command: /home/biocbuild/bbs-3.22-bioc/R/bin/R CMD check --install=check:iasva.install-out.txt --library=/home/biocbuild/bbs-3.22-bioc/R/site-library --timings iasva_1.28.0.tar.gz StartedAt: 2025-11-01 00:42:03 -0400 (Sat, 01 Nov 2025) EndedAt: 2025-11-01 00:45:46 -0400 (Sat, 01 Nov 2025) EllapsedTime: 223.3 seconds RetCode: 0 Status: OK CheckDir: iasva.Rcheck Warnings: 0