Package: iasva Version: 1.26.0 Command: /home/biocbuild/bbs-3.21-bioc/R/bin/R CMD INSTALL iasva StartedAt: 2025-10-15 15:17:41 -0400 (Wed, 15 Oct 2025) EndedAt: 2025-10-15 15:17:59 -0400 (Wed, 15 Oct 2025) EllapsedTime: 18.5 seconds RetCode: 0 Status: OK