Package: iasva Version: 1.26.0 Command: /home/biocbuild/bbs-3.21-bioc/R/bin/R CMD build --keep-empty-dirs --no-resave-data iasva StartedAt: 2025-10-15 18:02:05 -0400 (Wed, 15 Oct 2025) EndedAt: 2025-10-15 18:02:52 -0400 (Wed, 15 Oct 2025) EllapsedTime: 47.0 seconds RetCode: 0 Status: OK PackageFile: iasva_1.26.0.tar.gz PackageFileSize: 1.14 MiB