Package: iasva Version: 1.28.0 Command: /Library/Frameworks/R.framework/Resources/bin/R CMD INSTALL iasva StartedAt: 2025-10-31 15:15:39 -0400 (Fri, 31 Oct 2025) EndedAt: 2025-10-31 15:15:48 -0400 (Fri, 31 Oct 2025) EllapsedTime: 8.6 seconds RetCode: 0 Status: OK