Package: iasva Version: 1.26.0 Command: /Library/Frameworks/R.framework/Resources/bin/R CMD INSTALL iasva StartedAt: 2025-10-13 16:09:49 -0400 (Mon, 13 Oct 2025) EndedAt: 2025-10-13 16:10:12 -0400 (Mon, 13 Oct 2025) EllapsedTime: 23.1 seconds RetCode: 0 Status: OK