Package: iSEEu Version: 1.22.0 Command: /Library/Frameworks/R.framework/Resources/bin/R CMD INSTALL iSEEu StartedAt: 2025-11-06 15:15:30 -0500 (Thu, 06 Nov 2025) EndedAt: 2025-11-06 15:15:44 -0500 (Thu, 06 Nov 2025) EllapsedTime: 13.7 seconds RetCode: 0 Status: OK