Package: iSEEpathways Version: 1.8.0 Command: /home/biocbuild/bbs-3.22-bioc/R/bin/R CMD INSTALL iSEEpathways StartedAt: 2025-11-20 16:15:43 -0500 (Thu, 20 Nov 2025) EndedAt: 2025-11-20 16:16:16 -0500 (Thu, 20 Nov 2025) EllapsedTime: 32.5 seconds RetCode: 0 Status: OK